BEGIN:VCALENDAR
VERSION:2.0
PRODID:Imitheme.com
BEGIN:VEVENT
UID:20260421T154710-271109510
DTSTAMP;TZID=Europe/Berlin:20260421T154710
DTSTART;TZID=Europe/Berlin:20260421T154710
DTEND;TZID=Europe/Berlin:20260421T154710
SUMMARY:Musiksommer Götzens - Volksmusik im Kirchenraum
LOCATION:
DESCRIPTION: Musiksommer Götzens - Volksmusik im Kirchenraum

Veranstalter: Cultura Sacra
URL:https://tiroler-volksmusikverein.at/?p=55379
END:VEVENT
END:VCALENDAR
