BEGIN:VCALENDAR
VERSION:2.0
PRODID:Imitheme.com
BEGIN:VEVENT
UID:20260425T134919-897989274
DTSTAMP;TZID=Europe/Berlin:20260425T134919
DTSTART;TZID=Europe/Berlin:20260425T134919
DTEND;TZID=Europe/Berlin:20260425T134919
SUMMARY:Musikantenstammtisch
LOCATION:
DESCRIPTION: Musikantenstammtisch im Gasthof Traube (Dorf 77, 6574 Pettneu am Arlberg)

SängerInnen und MusikantInnen sind herzlich willkommen!

Veranstalter: Andreas Pirschner, Tel.: +43 (0)664 190 98 70
URL:https://tiroler-volksmusikverein.at/?p=55211
END:VEVENT
END:VCALENDAR
